BEGIN:VCALENDAR
PRODID:-//ibgi11285//EN
VERSION:2.0
BEGIN:VEVENT
SUMMARY:Gilbert Baitson: 8830 - Motor Vehicles, and General Household
PRIORITY:0
CLASS:PUBLIC
DTSTART:20260417T160000Z
DTEND:20260422T135145Z
DESCRIPTION:
X-ALT-DESC;FMTTYPE=text/html:
LOCATION:The Auction Rooms, 389-395 Anlaby Road, Hull, HU3 6AB, United Kingdom
END:VEVENT
END:VCALENDAR