BEGIN:VCALENDAR
PRODID:-//ibgi11276//EN
VERSION:2.0
BEGIN:VEVENT
SUMMARY:Gilbert Baitson: 8831 - Building and Joinery Equipment
PRIORITY:0
CLASS:PUBLIC
DTSTART:20260410T160000Z
DTEND:20260427T122030Z
DESCRIPTION:
X-ALT-DESC;FMTTYPE=text/html:
LOCATION: ,  ,  ,  , Hull,  , United Kingdom
END:VEVENT
END:VCALENDAR