BEGIN:VCALENDAR
PRODID:-//ibgi11284//EN
VERSION:2.0
BEGIN:VEVENT
SUMMARY:Gilbert Baitson: Shotguns and Firearms
PRIORITY:0
CLASS:PUBLIC
DTSTART:20260410T160000Z
DTEND:20260506T170000Z
DESCRIPTION:
X-ALT-DESC;FMTTYPE=text/html:
LOCATION:The Auction Rooms, 389-395 Anlaby Road, Hull, HU3 6AB, United Kingdom
END:VEVENT
END:VCALENDAR