BEGIN:VCALENDAR
PRODID:-//ibgi11286//EN
VERSION:2.0
BEGIN:VEVENT
SUMMARY:Gilbert Baitson: General Household Furnishings and Effects followed by Bathroom and Plumbing Fittings,
PRIORITY:0
CLASS:PUBLIC
DTSTART:20260501T160000Z
DTEND:20260506T093000Z
DESCRIPTION:
X-ALT-DESC;FMTTYPE=text/html:
LOCATION:The Auction Rooms, 389-395 Anlaby Road, Hull, HU3 6AB, United Kingdom
END:VEVENT
END:VCALENDAR